BEGIN:VCALENDAR
VERSION:2.0
PRODID:-//Jugendfeuerwehr Vellmar - ECPv6.15.20//NONSGML v1.0//EN
CALSCALE:GREGORIAN
METHOD:PUBLISH
X-WR-CALNAME:Jugendfeuerwehr Vellmar
X-ORIGINAL-URL:https://jugendfeuerwehr-vellmar.de
X-WR-CALDESC:Veranstaltungen für Jugendfeuerwehr Vellmar
REFRESH-INTERVAL;VALUE=DURATION:PT1H
X-Robots-Tag:noindex
X-PUBLISHED-TTL:PT1H
BEGIN:VTIMEZONE
TZID:Europe/Paris
BEGIN:DAYLIGHT
TZOFFSETFROM:+0100
TZOFFSETTO:+0200
TZNAME:CEST
DTSTART:20250330T010000
END:DAYLIGHT
BEGIN:STANDARD
TZOFFSETFROM:+0200
TZOFFSETTO:+0100
TZNAME:CET
DTSTART:20251026T010000
END:STANDARD
BEGIN:DAYLIGHT
TZOFFSETFROM:+0100
TZOFFSETTO:+0200
TZNAME:CEST
DTSTART:20260329T010000
END:DAYLIGHT
BEGIN:STANDARD
TZOFFSETFROM:+0200
TZOFFSETTO:+0100
TZNAME:CET
DTSTART:20261025T010000
END:STANDARD
BEGIN:DAYLIGHT
TZOFFSETFROM:+0100
TZOFFSETTO:+0200
TZNAME:CEST
DTSTART:20270328T010000
END:DAYLIGHT
BEGIN:STANDARD
TZOFFSETFROM:+0200
TZOFFSETTO:+0100
TZNAME:CET
DTSTART:20271031T010000
END:STANDARD
END:VTIMEZONE
BEGIN:VEVENT
DTSTART;VALUE=DATE:20260525
DTEND;VALUE=DATE:20260615
DTSTAMP:20260419T162921
CREATED:20260407T111714Z
LAST-MODIFIED:20260407T111714Z
UID:636-1779667200-1781481599@jugendfeuerwehr-vellmar.de
SUMMARY:Stadtradeln 2026
DESCRIPTION:
URL:https://jugendfeuerwehr-vellmar.de/event/stadtradeln-2026/
CATEGORIES:Jugendfeuerwehr Vellmar
END:VEVENT
BEGIN:VEVENT
DTSTART;TZID=Europe/Paris:20260614T080000
DTEND;TZID=Europe/Paris:20260614T160000
DTSTAMP:20260419T162921
CREATED:20260407T112005Z
LAST-MODIFIED:20260407T112005Z
UID:638-1781424000-1781452800@jugendfeuerwehr-vellmar.de
SUMMARY:Bundeswettbewerb im Kreisentscheid
DESCRIPTION:
URL:https://jugendfeuerwehr-vellmar.de/event/bundeswettbewerb-im-kreisentscheid/
LOCATION:Reinhardshagen
CATEGORIES:Kreisjugendfeuerwehr Kassel-Land
ATTACH;FMTTYPE=image/jpeg:https://jugendfeuerwehr-vellmar.de/wp-content/uploads/2025/01/Bundeswettbwerb_2022_A-Teil_Wasserentnahme.jpg
END:VEVENT
BEGIN:VEVENT
DTSTART;TZID=Europe/Paris:20260620T080000
DTEND;TZID=Europe/Paris:20260620T150000
DTSTAMP:20260419T162921
CREATED:20260407T112233Z
LAST-MODIFIED:20260407T112233Z
UID:641-1781942400-1781967600@jugendfeuerwehr-vellmar.de
SUMMARY:Baunatal Pokal
DESCRIPTION: 
URL:https://jugendfeuerwehr-vellmar.de/event/baunatal-pokal/
LOCATION:Baunatal
CATEGORIES:Jugendfeuerwehr Baunatal
END:VEVENT
BEGIN:VEVENT
DTSTART;TZID=Europe/Paris:20260628T140000
DTEND;TZID=Europe/Paris:20260628T190000
DTSTAMP:20260419T162921
CREATED:20260407T112341Z
LAST-MODIFIED:20260407T112341Z
UID:644-1782655200-1782673200@jugendfeuerwehr-vellmar.de
SUMMARY:Parkfest Vellmar
DESCRIPTION:
URL:https://jugendfeuerwehr-vellmar.de/event/parkfest-vellmar-2/
LOCATION:Ahnepark Vellmar\, Vellmar\, 34246
CATEGORIES:Stadt Vellmar
END:VEVENT
BEGIN:VEVENT
DTSTART;VALUE=DATE:20260731
DTEND;VALUE=DATE:20260810
DTSTAMP:20260419T162921
CREATED:20260407T112537Z
LAST-MODIFIED:20260407T112537Z
UID:646-1785456000-1786319999@jugendfeuerwehr-vellmar.de
SUMMARY:Sommerfreizeit 2026
DESCRIPTION:Segelfreizeit auf dem Wattenmeer
URL:https://jugendfeuerwehr-vellmar.de/event/sommerfreizeit-2026/
CATEGORIES:Jugendfeuerwehr Vellmar
ATTACH;FMTTYPE=image/jpeg:https://jugendfeuerwehr-vellmar.de/wp-content/uploads/2025/08/cropped-2022_Segelschiff_10.jpg
END:VEVENT
END:VCALENDAR